BEGIN:VCALENDAR
VERSION:2.0
PRODID:Events Booking
BEGIN:VEVENT
UID:69e750e501d50
SUMMARY:Schulprojekt: \"Jedes Böhnchen ein Tönchen\"    
DESCRIPTION:Hülsenfrüchte:&nbsp\;Wachsen diese eigentlich schon?
 &nbsp\
 ;
 Veranstaltungsort:
 Erlebnisraum Landwirtschaft\, Ernährung und Natu
 rAbt-Thoma-Straße 182256 Fürstenfeldbruck
LOCATION:Abt-Thoma-Straße 1\, Fürstenfeldbruck\, 82256\,
DTSTART:20260512T070000Z
DTEND:20260512T110000Z
DTSTAMP:20260304T062056Z
ORGANIZER;CN=Erlebnisraum Landwirtschaft:MAILTO:post@erlebnisraum-ffb.de
GEO:48.187843;11.220376
X-APPLE-STRUCTURED-LOCATION;VALUE=URI;X-ADDRESS=Abt-Thoma-Straße 1\, Fürs
 tenfeldbruck\, 82256\,;X-APPLE-RADIUS=72;X-TITLE=Erlebnisraum Landwirtscha
 ft\, Ernährung und Natur - Abt-Thoma-Str. 1\, 82256 Fürstenfeldbruck:48.
 187843;11.220376
END:VEVENT
END:VCALENDAR